BEGIN:VCALENDAR
VERSION:2.0
PRODID:-//Fort Worth South, Inc.//NONSGML v1.0//EN
CALSCALE:GREGORIAN
METHOD:PUBLISH
X-WR-CALNAME:Fort Worth South, Inc.
X-ORIGINAL-URL:http://www.fortworthsouth.org
X-WR-CALDESC:Events for Fort Worth South, Inc.
BEGIN:VEVENT
DTSTART;VALUE=DATE-TIME:20130518T160000
DTEND;VALUE=DATE-TIME:20130518T220000
DTSTAMP:20130515T160457
CREATED:20130121T110634
LAST-MODIFIED:20130514T132946
UID:3252@http://www.fortworthsouth.org
SUMMARY:Spring ArtsGoggle
DESCRIPTION:ArtsGoggle\, the twice-yearly celebration of art\, artists and music in Fort Worth\, Texas’ Near Southside\, is expecting another tremendous turnout on Saturday\, May 18\, 2013 from 4 to 10 pm. Download the program today  and plan your ArtsGoggle. Since its inception in 2003\, ArtsGoggle has evolved into a popular festival of the arts in this eclectic neighborhood of historic elegance and urbanism immediately south of Downtown. This free to the public\, family-friendly event attracts a crowd as diverse as the neighborhood itself with live music\, artistic displays of every kind\, food\, drink\, and fun for everyone. 
LOCATION:Near Southside, TX, United States
URL:http://www.fortworthsouth.org/event/spring-artsgoggle-2/
END:VEVENT
END:VCALENDAR